BEGIN:VCALENDAR
VERSION:2.0
PRODID:-//Ernesto Lemke - ECPv6.15.20//NONSGML v1.0//EN
CALSCALE:GREGORIAN
METHOD:PUBLISH
X-ORIGINAL-URL:https://ernestolemke.nl
X-WR-CALDESC:Evenementen voor Ernesto Lemke
REFRESH-INTERVAL;VALUE=DURATION:PT1H
X-Robots-Tag:noindex
X-PUBLISHED-TTL:PT1H
BEGIN:VTIMEZONE
TZID:Europe/Amsterdam
BEGIN:DAYLIGHT
TZOFFSETFROM:+0100
TZOFFSETTO:+0200
TZNAME:CEST
DTSTART:20220327T010000
END:DAYLIGHT
BEGIN:STANDARD
TZOFFSETFROM:+0200
TZOFFSETTO:+0100
TZNAME:CET
DTSTART:20221030T010000
END:STANDARD
BEGIN:DAYLIGHT
TZOFFSETFROM:+0100
TZOFFSETTO:+0200
TZNAME:CEST
DTSTART:20230326T010000
END:DAYLIGHT
BEGIN:STANDARD
TZOFFSETFROM:+0200
TZOFFSETTO:+0100
TZNAME:CET
DTSTART:20231029T010000
END:STANDARD
BEGIN:DAYLIGHT
TZOFFSETFROM:+0100
TZOFFSETTO:+0200
TZNAME:CEST
DTSTART:20240331T010000
END:DAYLIGHT
BEGIN:STANDARD
TZOFFSETFROM:+0200
TZOFFSETTO:+0100
TZNAME:CET
DTSTART:20241027T010000
END:STANDARD
END:VTIMEZONE
BEGIN:VEVENT
DTSTART;TZID=Europe/Amsterdam:20230610T150000
DTEND;TZID=Europe/Amsterdam:20230610T170000
DTSTAMP:20260423T200615
CREATED:20230502T083056Z
LAST-MODIFIED:20230509T100755Z
UID:1109-1686409200-1686416400@ernestolemke.nl
SUMMARY:AFOL Afternoon Noord
DESCRIPTION:Kom jij op Zaterdag 10 juni ook naar het eerste LEGO evenement voor volwassenen in het Noorden? Uw gastheren voor de middag zijn Marco & Ernesto\, bekend van seizoen 2 uit Legomasters. Zij geven een persoonlijk inkijkje in hun tv avontuur met exclusief materiaal. Ernesto neemt u daarbij mee hoe dit hem op het pad als Legokunstenaar heeft gebracht.\nHet tweede deel van de middag bestaat uit een speciale LEGO pub quiz. Ben je een echte AFOL en denk je alles te weten van LEGO? Beeld je antwoorden dan maar uit want op iedere tafel ligt een assorti LEGO beschikbaar!
URL:https://ernestolemke.nl/evenementen/afol-afternoon-noord/
LOCATION:Leeuwarden
CATEGORIES:Evenement
ATTACH;FMTTYPE=image/jpeg:https://ernestolemke.nl/wp-content/uploads/2023/05/d401b417-66e9-4be1-8b09-fbdacffde7c1.jpg
END:VEVENT
END:VCALENDAR