BEGIN:VCALENDAR
VERSION:2.0
PRODID:-//Ernesto Lemke - ECPv6.15.20//NONSGML v1.0//EN
CALSCALE:GREGORIAN
METHOD:PUBLISH
X-WR-CALNAME:Ernesto Lemke
X-ORIGINAL-URL:https://ernestolemke.nl
X-WR-CALDESC:Evenementen voor Ernesto Lemke
REFRESH-INTERVAL;VALUE=DURATION:PT1H
X-Robots-Tag:noindex
X-PUBLISHED-TTL:PT1H
BEGIN:VTIMEZONE
TZID:Europe/Amsterdam
BEGIN:DAYLIGHT
TZOFFSETFROM:+0100
TZOFFSETTO:+0200
TZNAME:CEST
DTSTART:20220327T010000
END:DAYLIGHT
BEGIN:STANDARD
TZOFFSETFROM:+0200
TZOFFSETTO:+0100
TZNAME:CET
DTSTART:20221030T010000
END:STANDARD
BEGIN:DAYLIGHT
TZOFFSETFROM:+0100
TZOFFSETTO:+0200
TZNAME:CEST
DTSTART:20230326T010000
END:DAYLIGHT
BEGIN:STANDARD
TZOFFSETFROM:+0200
TZOFFSETTO:+0100
TZNAME:CET
DTSTART:20231029T010000
END:STANDARD
BEGIN:DAYLIGHT
TZOFFSETFROM:+0100
TZOFFSETTO:+0200
TZNAME:CEST
DTSTART:20240331T010000
END:DAYLIGHT
BEGIN:STANDARD
TZOFFSETFROM:+0200
TZOFFSETTO:+0100
TZNAME:CET
DTSTART:20241027T010000
END:STANDARD
END:VTIMEZONE
BEGIN:VEVENT
DTSTART;TZID=Europe/Amsterdam:20231219T153000
DTEND;TZID=Europe/Amsterdam:20231219T180000
DTSTAMP:20260423T114056
CREATED:20231030T130453Z
LAST-MODIFIED:20231030T130503Z
UID:1259-1702999800-1703008800@ernestolemke.nl
SUMMARY:First Contact
DESCRIPTION:Wat begon als try-out presentatie voor onze (Jantje Postma) teamleden is dit jaar uitgegroeid tot FIRST CONTACT. Hét evenement om de Gemeente Heerenveen en omstreken kennis te laten maken met drie competities van FIRST\,\nDe FIRST LEGO League NL \, met het team #REborn als vertegenwoordiger. De Tech Challenge\, vertegenwoordigd door #prettysmartrobotics #16441 uit Grootegast en de Robotics Competition\, vertegenwoordigd door Team Rembrandts #4481 uit Eindhoven.\nOm het nóg mooier te maken is Ernesto Lemke er ook met een aantal van zijn #LEGO portretten én is er een LEGO-set tentoonstelling met héél veel verschillende sets\,
URL:https://ernestolemke.nl/evenementen/first-contact/
LOCATION:Heerenveen
CATEGORIES:Evenement
ATTACH;FMTTYPE=image/jpeg:https://ernestolemke.nl/wp-content/uploads/2023/10/1698260630613-jpeg.webp
END:VEVENT
END:VCALENDAR