BEGIN:VCALENDAR
VERSION:2.0
PRODID:-//Ernesto Lemke - ECPv6.15.20//NONSGML v1.0//EN
CALSCALE:GREGORIAN
METHOD:PUBLISH
X-ORIGINAL-URL:https://ernestolemke.nl
X-WR-CALDESC:Evenementen voor Ernesto Lemke
REFRESH-INTERVAL;VALUE=DURATION:PT1H
X-Robots-Tag:noindex
X-PUBLISHED-TTL:PT1H
BEGIN:VTIMEZONE
TZID:Europe/Amsterdam
BEGIN:DAYLIGHT
TZOFFSETFROM:+0100
TZOFFSETTO:+0200
TZNAME:CEST
DTSTART:20230326T010000
END:DAYLIGHT
BEGIN:STANDARD
TZOFFSETFROM:+0200
TZOFFSETTO:+0100
TZNAME:CET
DTSTART:20231029T010000
END:STANDARD
BEGIN:DAYLIGHT
TZOFFSETFROM:+0100
TZOFFSETTO:+0200
TZNAME:CEST
DTSTART:20240331T010000
END:DAYLIGHT
BEGIN:STANDARD
TZOFFSETFROM:+0200
TZOFFSETTO:+0100
TZNAME:CET
DTSTART:20241027T010000
END:STANDARD
BEGIN:DAYLIGHT
TZOFFSETFROM:+0100
TZOFFSETTO:+0200
TZNAME:CEST
DTSTART:20250330T010000
END:DAYLIGHT
BEGIN:STANDARD
TZOFFSETFROM:+0200
TZOFFSETTO:+0100
TZNAME:CET
DTSTART:20251026T010000
END:STANDARD
END:VTIMEZONE
BEGIN:VEVENT
DTSTART;VALUE=DATE:20240309
DTEND;VALUE=DATE:20240310
DTSTAMP:20260423T070309
CREATED:20231012T090949Z
LAST-MODIFIED:20240115T083817Z
UID:1233-1709942400-1710028799@ernestolemke.nl
SUMMARY:Finaledag First LEGO League
DESCRIPTION:Ook dit jaar vind je mij op de finaledag van FLL weer terug! Rond het thema ‘Masterpiece’ stel ik verschillende Brickpaintings tentoon\, licht ik mijn werk toe en kun je mij uiteraard van alles vragen of op de foto voor wie dat wil. Houd de socials in de gaten want daar volgen nog enkele vooraankondigingen!
URL:https://ernestolemke.nl/evenementen/finaledag-first-lego-league/
LOCATION:Den Bosch
CATEGORIES:Evenement
ATTACH;FMTTYPE=image/jpeg:https://ernestolemke.nl/wp-content/uploads/2023/09/IMG_9352-jpg.webp
END:VEVENT
END:VCALENDAR