BEGIN:VCALENDAR
VERSION:2.0
PRODID:-//Ernesto Lemke - ECPv6.15.20//NONSGML v1.0//EN
CALSCALE:GREGORIAN
METHOD:PUBLISH
X-WR-CALNAME:Ernesto Lemke
X-ORIGINAL-URL:https://ernestolemke.nl
X-WR-CALDESC:Evenementen voor Ernesto Lemke
REFRESH-INTERVAL;VALUE=DURATION:PT1H
X-Robots-Tag:noindex
X-PUBLISHED-TTL:PT1H
BEGIN:VTIMEZONE
TZID:Europe/Amsterdam
BEGIN:DAYLIGHT
TZOFFSETFROM:+0100
TZOFFSETTO:+0200
TZNAME:CEST
DTSTART:20230326T010000
END:DAYLIGHT
BEGIN:STANDARD
TZOFFSETFROM:+0200
TZOFFSETTO:+0100
TZNAME:CET
DTSTART:20231029T010000
END:STANDARD
BEGIN:DAYLIGHT
TZOFFSETFROM:+0100
TZOFFSETTO:+0200
TZNAME:CEST
DTSTART:20240331T010000
END:DAYLIGHT
BEGIN:STANDARD
TZOFFSETFROM:+0200
TZOFFSETTO:+0100
TZNAME:CET
DTSTART:20241027T010000
END:STANDARD
BEGIN:DAYLIGHT
TZOFFSETFROM:+0100
TZOFFSETTO:+0200
TZNAME:CEST
DTSTART:20250330T010000
END:DAYLIGHT
BEGIN:STANDARD
TZOFFSETFROM:+0200
TZOFFSETTO:+0100
TZNAME:CET
DTSTART:20251026T010000
END:STANDARD
END:VTIMEZONE
BEGIN:VEVENT
DTSTART;VALUE=DATE:20240517
DTEND;VALUE=DATE:20240519
DTSTAMP:20260423T034242
CREATED:20240506T172842Z
LAST-MODIFIED:20240506T174019Z
UID:1556-1715904000-1716076799@ernestolemke.nl
SUMMARY:Inspiratiedagen Arcadia - Maakplaats
DESCRIPTION:Kom op 17 & 18 mei naar de inspiratiedagen in Stadsschouwburg De Harmonie in Leeuwarden. Tijdens deze dagen geven we een inkijkje in het nieuwe programma voor 2025 en ontdek je hoe jij kunt meedoen. Kom langs en bouw mee aan Arcadia 2025! \nMaakplaats\nKom maken in de Maakplaats. Denk al makend mee over hoe jij kunt bijdragen aan het programma van Arcadia 2025. Schuif aan tafel bij een kunstenaar en onderzoek met LEGO 😉 hout\, wol\, verf\, papier en een goede vraag hoe je met je ideeën de wereld kunt veranderen.
URL:https://ernestolemke.nl/evenementen/inspiratiedagen-arcadia-maakplaats/
LOCATION:Leeuwarden
CATEGORIES:Evenement
ATTACH;FMTTYPE=image/jpeg:https://ernestolemke.nl/wp-content/uploads/2024/05/images-jpeg.webp
END:VEVENT
END:VCALENDAR