BEGIN:VCALENDAR
VERSION:2.0
PRODID:-//Ernesto Lemke - ECPv6.15.20//NONSGML v1.0//EN
CALSCALE:GREGORIAN
METHOD:PUBLISH
X-ORIGINAL-URL:https://ernestolemke.nl
X-WR-CALDESC:Evenementen voor Ernesto Lemke
REFRESH-INTERVAL;VALUE=DURATION:PT1H
X-Robots-Tag:noindex
X-PUBLISHED-TTL:PT1H
BEGIN:VTIMEZONE
TZID:Europe/Amsterdam
BEGIN:DAYLIGHT
TZOFFSETFROM:+0100
TZOFFSETTO:+0200
TZNAME:CEST
DTSTART:20240331T010000
END:DAYLIGHT
BEGIN:STANDARD
TZOFFSETFROM:+0200
TZOFFSETTO:+0100
TZNAME:CET
DTSTART:20241027T010000
END:STANDARD
BEGIN:DAYLIGHT
TZOFFSETFROM:+0100
TZOFFSETTO:+0200
TZNAME:CEST
DTSTART:20250330T010000
END:DAYLIGHT
BEGIN:STANDARD
TZOFFSETFROM:+0200
TZOFFSETTO:+0100
TZNAME:CET
DTSTART:20251026T010000
END:STANDARD
BEGIN:DAYLIGHT
TZOFFSETFROM:+0100
TZOFFSETTO:+0200
TZNAME:CEST
DTSTART:20260329T010000
END:DAYLIGHT
BEGIN:STANDARD
TZOFFSETFROM:+0200
TZOFFSETTO:+0100
TZNAME:CET
DTSTART:20261025T010000
END:STANDARD
END:VTIMEZONE
BEGIN:VEVENT
DTSTART;VALUE=DATE:20250405
DTEND;VALUE=DATE:20250406
DTSTAMP:20260422T122510
CREATED:20250307T105102Z
LAST-MODIFIED:20250307T105102Z
UID:2238-1743811200-1743897599@ernestolemke.nl
SUMMARY:Nationale Jeugdstrategie
DESCRIPTION:De Nationale Jeugdstrategie gaat on tour! 10 thema’s\, 12 provincies en Caribisch Nederland. We komen langs bij jou in de buurt om zoveel mogelijk jongeren te spreken. Want jullie stem telt! Bij onze indoor festivals en straatevents praten we samen over thema’s die echt belangrijk zijn voor jongeren. \nEn hoe kun je de mening van iemand nu supersnel in beeld brengen? Juist: met LEGO! Als jullie procesbegeleider help ik jullie om voor een van de 10 thema’s knelpunten én oplossingen te bouwen.
URL:https://ernestolemke.nl/evenementen/nationale-jeugdstrategie-4/
LOCATION:Arnhem
CATEGORIES:Evenement
ATTACH;FMTTYPE=image/webp:https://ernestolemke.nl/wp-content/uploads/2025/03/Screenshot-2024-02-27-102041.avif
END:VEVENT
BEGIN:VEVENT
DTSTART;VALUE=DATE:20250405
DTEND;VALUE=DATE:20250406
DTSTAMP:20260422T122510
CREATED:20250307T105214Z
LAST-MODIFIED:20250307T105214Z
UID:2242-1743811200-1743897599@ernestolemke.nl
SUMMARY:Nationale Jeugdstrategie
DESCRIPTION:De Nationale Jeugdstrategie gaat on tour! 10 thema’s\, 12 provincies en Caribisch Nederland. We komen langs bij jou in de buurt om zoveel mogelijk jongeren te spreken. Want jullie stem telt! Bij onze indoor festivals en straatevents praten we samen over thema’s die echt belangrijk zijn voor jongeren. \nEn hoe kun je de mening van iemand nu supersnel in beeld brengen? Juist: met LEGO! Als jullie procesbegeleider help ik jullie om voor een van de 10 thema’s knelpunten én oplossingen te bouwen.
URL:https://ernestolemke.nl/evenementen/nationale-jeugdstrategie-5/
LOCATION:Eindhoven
CATEGORIES:Evenement
ATTACH;FMTTYPE=image/jpeg:https://ernestolemke.nl/wp-content/uploads/2025/03/7a.avif
END:VEVENT
END:VCALENDAR